BEGIN:VCALENDAR
VERSION:2.0
PRODID:-//MŠ Gagarinova - ECPv5.9.0//NONSGML v1.0//EN
CALSCALE:GREGORIAN
METHOD:PUBLISH
X-WR-CALNAME:MŠ Gagarinova
X-ORIGINAL-URL:https://www.msgagarinova.cz
X-WR-CALDESC:Akce na MŠ Gagarinova
BEGIN:VTIMEZONE
TZID:Europe/Prague
BEGIN:DAYLIGHT
TZOFFSETFROM:+0100
TZOFFSETTO:+0200
TZNAME:CEST
DTSTART:20220327T010000
END:DAYLIGHT
BEGIN:STANDARD
TZOFFSETFROM:+0200
TZOFFSETTO:+0100
TZNAME:CET
DTSTART:20221030T010000
END:STANDARD
BEGIN:DAYLIGHT
TZOFFSETFROM:+0100
TZOFFSETTO:+0200
TZNAME:CEST
DTSTART:20230326T010000
END:DAYLIGHT
BEGIN:STANDARD
TZOFFSETFROM:+0200
TZOFFSETTO:+0100
TZNAME:CET
DTSTART:20231029T010000
END:STANDARD
END:VTIMEZONE
BEGIN:VEVENT
DTSTART;TZID=Europe/Prague:20221223T070000
DTEND;TZID=Europe/Prague:20230101T170000
DTSTAMP:20260426T062906
CREATED:20221011T085219Z
LAST-MODIFIED:20221223T054017Z
UID:2997-1671778800-1672592400@www.msgagarinova.cz
SUMMARY:Přerušení provozu mateřské školy
DESCRIPTION:V době vánočních svátků bude přerušen provoz Mateřské škoyl Gagarinova od pátku 23.12.2022 do neděle 1.1.2023. Provoz bude naposledy ve čtvrtek 22.12.2022 a opět zahájen v pondělí 2.1.2023.
URL:https://www.msgagarinova.cz/kalendar/preruseni-provozu-materske-skoly/
CATEGORIES:kalendář,kalendář a hlavní stránka
END:VEVENT
END:VCALENDAR