BEGIN:VCALENDAR
VERSION:2.0
PRODID:-//MŠ Gagarinova - ECPv5.9.0//NONSGML v1.0//EN
CALSCALE:GREGORIAN
METHOD:PUBLISH
X-WR-CALNAME:MŠ Gagarinova
X-ORIGINAL-URL:https://www.msgagarinova.cz
X-WR-CALDESC:Akce na MŠ Gagarinova
BEGIN:VTIMEZONE
TZID:Europe/Prague
BEGIN:DAYLIGHT
TZOFFSETFROM:+0100
TZOFFSETTO:+0200
TZNAME:CEST
DTSTART:20240331T010000
END:DAYLIGHT
BEGIN:STANDARD
TZOFFSETFROM:+0200
TZOFFSETTO:+0100
TZNAME:CET
DTSTART:20241027T010000
END:STANDARD
END:VTIMEZONE
BEGIN:VEVENT
DTSTART;TZID=Europe/Prague:20241111T093000
DTEND;TZID=Europe/Prague:20241111T103000
DTSTAMP:20260425T140825
CREATED:20240913T090207Z
LAST-MODIFIED:20240913T121541Z
UID:4270-1731317400-1731321000@www.msgagarinova.cz
SUMMARY:Na skok sochařem - edukativní program
DESCRIPTION:V pondělí 11.11.2024 proběhne ve třídě Medvědů edukativní program. \nNa  skok sochařem: děti si zkusí práci se sochařskou hlínou. Ukážeme si jednoduché rady\, jak modelovat obličej nebo zvířátko. Všechny sochařské výrobky si děti odnáší domů.\nEdukační programy jsou doprovodné aktivity ke stálým expozicím i krátkodobým výstavám\, které jsou pro školní skupiny vytvářeny v návaznosti na rámcové vzdělávací programy. Klasickou školní výuku tak doplňují o prvky objektového vyučování\, kritického myšlení\, ale i o regionální učivo.
URL:https://www.msgagarinova.cz/kalendar/na-skok-socharem-edukativni-program/
CATEGORIES:kalendář,kalendář a hlavní stránka
END:VEVENT
END:VCALENDAR