BEGIN:VCALENDAR
VERSION:2.0
PRODID:-//MŠ Gagarinova - ECPv5.9.0//NONSGML v1.0//EN
CALSCALE:GREGORIAN
METHOD:PUBLISH
X-WR-CALNAME:MŠ Gagarinova
X-ORIGINAL-URL:https://www.msgagarinova.cz
X-WR-CALDESC:Akce na MŠ Gagarinova
BEGIN:VTIMEZONE
TZID:Europe/Prague
BEGIN:DAYLIGHT
TZOFFSETFROM:+0100
TZOFFSETTO:+0200
TZNAME:CEST
DTSTART:20240331T010000
END:DAYLIGHT
BEGIN:STANDARD
TZOFFSETFROM:+0200
TZOFFSETTO:+0100
TZNAME:CET
DTSTART:20241027T010000
END:STANDARD
END:VTIMEZONE
BEGIN:VEVENT
DTSTART;TZID=Europe/Prague:20241106T100000
DTEND;TZID=Europe/Prague:20241106T113000
DTSTAMP:20260425T124615
CREATED:20241025T104728Z
LAST-MODIFIED:20241025T104751Z
UID:4422-1730887200-1730892600@www.msgagarinova.cz
SUMMARY:Geologický ústav
DESCRIPTION:Ve středu 6.11.2024 se děti ze třídy Medvědů (po focení) vydají do Geologického ústavu na exkurzi – seznamování s názvy hornin a minerálů.
URL:https://www.msgagarinova.cz/kalendar/geologicky-ustav/
CATEGORIES:kalendář,kalendář a hlavní stránka
END:VEVENT
END:VCALENDAR